BEGIN:VCALENDAR
VERSION:2.0
PRODID:-//Women for Healthy Rural Living : Milbridge, Maine - ECPv6.15.20//NONSGML v1.0//EN
CALSCALE:GREGORIAN
METHOD:PUBLISH
X-WR-CALNAME:Women for Healthy Rural Living : Milbridge, Maine
X-ORIGINAL-URL:https://whrl.org
X-WR-CALDESC:Events for Women for Healthy Rural Living : Milbridge, Maine
REFRESH-INTERVAL;VALUE=DURATION:PT1H
X-Robots-Tag:noindex
X-PUBLISHED-TTL:PT1H
BEGIN:VTIMEZONE
TZID:America/New_York
BEGIN:DAYLIGHT
TZOFFSETFROM:-0500
TZOFFSETTO:-0400
TZNAME:EDT
DTSTART:20250309T070000
END:DAYLIGHT
BEGIN:STANDARD
TZOFFSETFROM:-0400
TZOFFSETTO:-0500
TZNAME:EST
DTSTART:20251102T060000
END:STANDARD
BEGIN:DAYLIGHT
TZOFFSETFROM:-0500
TZOFFSETTO:-0400
TZNAME:EDT
DTSTART:20260308T070000
END:DAYLIGHT
BEGIN:STANDARD
TZOFFSETFROM:-0400
TZOFFSETTO:-0500
TZNAME:EST
DTSTART:20261101T060000
END:STANDARD
BEGIN:DAYLIGHT
TZOFFSETFROM:-0500
TZOFFSETTO:-0400
TZNAME:EDT
DTSTART:20270314T070000
END:DAYLIGHT
BEGIN:STANDARD
TZOFFSETFROM:-0400
TZOFFSETTO:-0500
TZNAME:EST
DTSTART:20271107T060000
END:STANDARD
END:VTIMEZONE
BEGIN:VEVENT
DTSTART;TZID=America/New_York:20260425T130000
DTEND;TZID=America/New_York:20260425T150000
DTSTAMP:20260425T190330
CREATED:20260324T163946Z
LAST-MODIFIED:20260324T165201Z
UID:10001018-1777122000-1777129200@whrl.org
SUMMARY:Creating a Living Shoreline at Milbridge Commons Wellness Park
DESCRIPTION:Do you have an eroding shoreline? Are you interested in learning how live stakes can help stabilize and restore your shoreline? Live stakes are cuttings from native shrubs or trees\, such as willow or elderberry\, that are planted directly into the soil along streambanks or shorelines. As they grow\, their roots hold soil in place\, reduce erosion\, and provide important habitat for wildlife. \nJoin us with Maine Coast Heritage Trust at Milbridge Commons Wellness Park for a demonstration session on April 25th\, 2026\, from 1–3 pm\, where you can see live staking in action and ask questions about the best species and planting techniques for your property. Questions? Contact David Holmberg at dholmberg@mcht.org or 513-292-3549. \nThis program is free\, but registration is required! \n			\n				\n				\n				\n				\n				\n				\n				\n					\n	\n\n                \n                        \n                            Creating a Living Shoreline at Milbridge Commons\n                        \n                        LinkedInThis field is for validation purposes and should be left unchanged.Creating a Living Shoreline\n					\n					\n						Price:\n						\n					\n					\n				Your InformationName(Required)Space is limited - register ONLY one person at a time. \n                            \n                            \n                                                    \n                                                    First\n                                                \n                            \n                            \n                                                    \n                                                    Last\n                                                \n                            \n                        Email(Required)\n                            \n                        Phone(Required)Mailing Address(Required)    \n                    \n                         \n                                        \n                                        Street Address\n                                    \n                                    \n                                    City\n                                 \n                                        AlabamaAlaskaAmerican SamoaArizonaArkansasCaliforniaColoradoConnecticutDelawareDistrict of ColumbiaFloridaGeorgiaGuamHawaiiIdahoIllinoisIndianaIowaKansasKentuckyLouisianaMaineMarylandMassachusettsMichiganMinnesotaMississippiMissouriMontanaNebraskaNevadaNew HampshireNew JerseyNew MexicoNew YorkNorth CarolinaNorth DakotaNorthern Mariana IslandsOhioOklahomaOregonPennsylvaniaPuerto RicoRhode IslandSouth CarolinaSouth DakotaTennesseeTexasUtahU.S. Virgin IslandsVermontVirginiaWashingtonWest VirginiaWisconsinWyomingArmed Forces AmericasArmed Forces EuropeArmed Forces Pacific\n                                        State\n                                      \n                                    \n                                    ZIP Code\n                                \n                    \n                Is there anything else we should know? Any accommodations that will make this day work for you?How did you learn about this workshop?Select OneWHRL WebsiteEmailWord of mouthNewspaperFacebookInstagramPosterTelevisionRadioPhoto ReleaseI hereby give permission for images and/or videos of myself taken during this program to be used by Women for Healthy Rural Living in any and all of its publications\, including web-based publications\, without payment or other consideration.\n\nI understand and agree that all photos will become the property of WHRL and will not be returned. WHRL can edit\, alter\, copy\, exhibit\, publish\, or distribute these photos for any lawful purpose. In addition\, I waive any right to inspect or approve the finished product wherein my likeness appears. Additionally\, I waive any right to royalties or other compensation arising or related to the use of the photo.\n\nI hereby hold harmless\, release\, and forever discharge WHRL from all claims\, demands\, and causes of action which I\, my heirs\, representatives\, executors\, administrators\, or any other persons acting on my behalf or on behalf of my estate have or may have by reason of this authorization. I agree\n          \n            \n            \n            \n            \n            \n            \n            \n            \n            \n            \n            \n            \n            \n        \n                        Δ
URL:https://whrl.org/schedule/creating-a-living-shoreline/
LOCATION:Milbridge Commons Wellness Park\, Main Street\, Milbridge\, ME\, 04658\, United States
CATEGORIES:Special Events
ATTACH;FMTTYPE=image/jpeg:https://whrl.org/wp-content/uploads/2026/03/milbridge-commons.jpg
END:VEVENT
BEGIN:VEVENT
DTSTART;TZID=America/New_York:20260411T140000
DTEND;TZID=America/New_York:20260411T153000
DTSTAMP:20260425T190330
CREATED:20260121T003614Z
LAST-MODIFIED:20260121T003835Z
UID:10000991-1775916000-1775921400@whrl.org
SUMMARY:Birding 101
DESCRIPTION:April is the perfect month to learn a new bird by song or sight because they seem to show up one by one this time of year\, giving us a chance to really notice individuals. This mellow outing will provide optional sitting or standing activities to help you notice details about birds\, to help you build some birding superpowers you can use anywhere. This program is low-movement\, and you can enjoy it seated or standing. Wheelchairs welcome! For this outing\, you will need to move from your car in the parking lot to the grassy park area of the Milbridge Commons Wellness Park. The park is ringed by a 6′-wide trail with a deep gravel base topped with stone dust\, which makes it easier on the joints than pavement. For people who use wheelchairs\, Maine Trail Finder’s Accessibility Ambassador\, Enock Glidden\, has created a rating system in Wheelies. This outing qualifies as “Wheelie Easy.” See here for more information. For those who would like to move around more\, you will also have the opportunity to do so. Wear clothing and footwear to keep you warm and dry during this slower-paced program\, and a lawn chair if you’d prefer not to sit on a stone bench or the ground. Please reach out to Lizzie at 413-717-7827 with any further questions. \nOWL Outings are led by Registered Maine Guides at Maine Outdoor School who all hold a minimum of a Wilderness First Aid certification. To learn more about MOS’s guides\, visit https://www.maineoutdoorschool.org/staff. \nGear Library \nWHRL and MOS have a gear collection for OWL outings. Please reach out directly to Lizzie at 413-717-7827 or by email at lizzie@whrl.org if you are interested in using any of the items below. Use is first-come\, first-served. Need something that you don’t see on the list below? Reach out! \nAvailable Gear \n\nTrekking poles (6 sets)\nLayers: rain ponchos\n\nSpace is limited\, and registration is required. Registration opens March 23. \n			\n				Click here to Register
URL:https://whrl.org/schedule/birding-101/
LOCATION:Milbridge Commons Wellness Park\, Main Street\, Milbridge\, ME\, 04658\, United States
CATEGORIES:OWL Outing Club
ATTACH;FMTTYPE=image/jpeg:https://whrl.org/wp-content/uploads/2026/01/birding.jpg
END:VEVENT
END:VCALENDAR